BEGIN:VCALENDAR
VERSION:2.0
PRODID:icalendar-ruby
CALSCALE:GREGORIAN
BEGIN:VEVENT
DTSTAMP:20210122T153041Z
UID:ae3753c3-6434-4569-b8d2-6b31e62777f8
DTSTART;VALUE=DATE:20201107
DESCRIPTION:Property ID# 491918\, Time: 12:00PM
SUMMARY:Auction for 
END:VEVENT
END:VCALENDAR
