BEGIN:VCALENDAR
VERSION:2.0
PRODID:icalendar-ruby
CALSCALE:GREGORIAN
BEGIN:VEVENT
DTSTAMP:20210122T153044Z
UID:66790c57-5a09-43eb-8b33-a52840674fc5
DTSTART;VALUE=DATE:20210210
DESCRIPTION:Property ID# 498608\, Time: 4:00PM
SUMMARY:Auction for 7  Asher Ave
END:VEVENT
END:VCALENDAR
