BEGIN:VCALENDAR
VERSION:2.0
PRODID:icalendar-ruby
CALSCALE:GREGORIAN
BEGIN:VEVENT
DTSTAMP:20210122T152856Z
UID:0814fd90-ead7-4b2a-a104-31a8fda0dd99
DTSTART;VALUE=DATE:20210210
DESCRIPTION:Property ID# 498609\, Time: 4:00PM
SUMMARY:Auction for 37 Taupahi Road
END:VEVENT
END:VCALENDAR
